BEGIN:VCALENDAR
VERSION:2.0
PRODID:-//Tukios.com/
BEGIN:VEVENT
UID:8c39a59e-1db2-4664-8b78-6f191c81214d@www.roycechedzoy.com
DTSTAMP:20260424T051433Z
DTSTART:20260530T150000Z
DTEND:20260530T170000Z
SUMMARY:Visitation
DESCRIPTION:
URL:https://www.roycechedzoy.com/obituaries/barbara-bucklaew
LOCATION:Royce-Chedzoy Funeral Home 212 E 4th St  Watkins Glen NY 14891
GEO:42.3818878;-76.8706203
END:VEVENT
END:VCALENDAR