BEGIN:VCALENDAR
VERSION:2.0
PRODID:-//Tukios.com/
BEGIN:VEVENT
UID:800acb63-638f-4699-a32c-7197efddef63@www.roycechedzoy.com
DTSTAMP:20260424T051141Z
DTSTART:20260530T170000Z
DTEND:20260530T180000Z
SUMMARY:Memorial Service
DESCRIPTION:
URL:https://www.roycechedzoy.com/obituaries/barbara-bucklaew
LOCATION:Royce-Chedzoy Funeral Home 212 E 4th St  Watkins Glen NY 14891
GEO:42.3818878;-76.8706203
END:VEVENT
END:VCALENDAR