BEGIN:VCALENDAR
VERSION:2.0
PRODID:-//Tukios.com/
BEGIN:VEVENT
UID:d5bca7ee-603a-4e2a-8b12-42f366796289@www.roycechedzoy.com
DTSTAMP:20260423T231216Z
DTSTART:20260503T170000Z
DTEND:20260503T200000Z
SUMMARY:Memorial Gathering
DESCRIPTION:
URL:https://www.roycechedzoy.com/obituaries/esther-stocum
LOCATION:Seneca Lake Events Center 586 East 4th Street  Watkins Glen NY 
	14891
GEO:42.3854106;-76.8596697
END:VEVENT
END:VCALENDAR