BEGIN:VCALENDAR
VERSION:2.0
PRODID:-//Tukios.com/
BEGIN:VEVENT
UID:1f9ed3e8-c42a-4959-8fcd-330b49c730c5@www.roycechedzoy.com
DTSTAMP:20260420T044649Z
DTSTART:20260502T180000Z
DTEND:20260502T190000Z
SUMMARY:Celebration of Life
DESCRIPTION:
URL:https://www.roycechedzoy.com/obituaries/gabriel-santos
LOCATION:Hazlitt 1852 Vineyards 5712 NY-414  Hector NY 14841
GEO:42.5106291;-76.8757326
END:VEVENT
END:VCALENDAR