BEGIN:VCALENDAR
VERSION:2.0
PRODID:-//Tukios.com/
BEGIN:VEVENT
UID:d4ad053b-0f39-4fa4-9208-06b4e29f65c9@www.roycechedzoy.com
DTSTAMP:20260424T050957Z
DTSTART:20260516T150000Z
DTEND:20260516T160000Z
SUMMARY:Memorial Service
DESCRIPTION:
URL:https://www.roycechedzoy.com/obituaries/joyce-mckinney
LOCATION:First Presbyterian Church of Watkins Glen 520 N Decatur St  
	Watkins Glen NY 14891
GEO:42.380024;-76.870744
END:VEVENT
END:VCALENDAR